BEGIN:VCALENDAR
VERSION:2.0
PRODID:-//horsealert.local//NONSGML kigkonsult.se iCalcreator 2.10.5//
CALSCALE:GREGORIAN
X-WR-TIMEZONE:Europe/Dublin
BEGIN:VTIMEZONE
TZID:Etc/GMT-1
BEGIN:STANDARD
DTSTART:20010101T000000
TZOFFSETFROM:+0100
TZOFFSETTO:+0100
TZNAME:GMT +01:00
END:STANDARD
END:VTIMEZONE
BEGIN:VEVENT
UID:20260424T035438CEST-9236Fnnipm@horsealert.local
DTSTAMP:20260424T010438Z
CATEGORIES:Horse Alerts
DESCRIPTION:Saint-Jammes Cross Country Chase
DTSTART:20141214T131500
LOCATION:France
SUMMARY:Horse Racing:Saint-Jammes Cross Country Chase
END:VEVENT
END:VCALENDAR
