BEGIN:VCALENDAR
VERSION:2.0
PRODID:-//horsealert.local//NONSGML kigkonsult.se iCalcreator 2.10.5//
CALSCALE:GREGORIAN
X-WR-TIMEZONE:Europe/Dublin
BEGIN:VTIMEZONE
TZID:Etc/GMT-1
BEGIN:STANDARD
DTSTART:20010101T000000
TZOFFSETFROM:+0100
TZOFFSETTO:+0100
TZNAME:GMT +01:00
END:STANDARD
END:VTIMEZONE
BEGIN:VEVENT
UID:20260424T021940CEST-5481xfPrG6@horsealert.local
DTSTAMP:20260424T000440Z
CATEGORIES:Horse Alerts
DESCRIPTION:\'Tom Cawdell 3Weeks 2Change Your Mind\' Mares\' Maiden Hurdle
DTSTART:20141214T151500
LOCATION:England
SUMMARY:Horse Racing:\'Tom Cawdell 3Weeks 2Change Your Mind\' Mares\' Maide
 n Hurdle
END:VEVENT
END:VCALENDAR
