BEGIN:VCALENDAR
VERSION:2.0
PRODID:-//horsealert.local//NONSGML kigkonsult.se iCalcreator 2.10.5//
CALSCALE:GREGORIAN
X-WR-TIMEZONE:Europe/Dublin
BEGIN:VTIMEZONE
TZID:Etc/GMT-1
BEGIN:STANDARD
DTSTART:20010101T000000
TZOFFSETFROM:+0100
TZOFFSETTO:+0100
TZNAME:GMT +01:00
END:STANDARD
END:VTIMEZONE
BEGIN:VEVENT
UID:20260424T021923CEST-96011kbjKm@horsealert.local
DTSTAMP:20260424T000423Z
CATEGORIES:Horse Alerts
DESCRIPTION:Durdar Mares\' Standard Open NH Flat Race
DTSTART:20141214T152500
LOCATION:England
SUMMARY:Horse Racing:Durdar Mares\' Standard Open NH Flat Race
END:VEVENT
END:VCALENDAR
