BEGIN:VCALENDAR
VERSION:2.0
PRODID:-//horsealert.local//NONSGML kigkonsult.se iCalcreator 2.10.5//
CALSCALE:GREGORIAN
X-WR-TIMEZONE:Europe/Dublin
BEGIN:VTIMEZONE
TZID:Etc/GMT-1
BEGIN:STANDARD
DTSTART:20010101T000000
TZOFFSETFROM:+0100
TZOFFSETTO:+0100
TZNAME:GMT +01:00
END:STANDARD
END:VTIMEZONE
BEGIN:VEVENT
UID:20260424T035458CEST-3105btjvSX@horsealert.local
DTSTAMP:20260424T010458Z
CATEGORIES:Horse Alerts
DESCRIPTION:I.T.P.S. Standard Open NH Flat Race
DTSTART:20141211T152000
LOCATION:England
SUMMARY:Horse Racing:I.T.P.S. Standard Open NH Flat Race
END:VEVENT
END:VCALENDAR
