BEGIN:VCALENDAR
VERSION:2.0
PRODID:-//horsealert.local//NONSGML kigkonsult.se iCalcreator 2.10.5//
CALSCALE:GREGORIAN
X-WR-TIMEZONE:Europe/Dublin
BEGIN:VTIMEZONE
TZID:Etc/GMT-1
BEGIN:STANDARD
DTSTART:20010101T000000
TZOFFSETFROM:+0100
TZOFFSETTO:+0100
TZNAME:GMT +01:00
END:STANDARD
END:VTIMEZONE
BEGIN:VEVENT
UID:20260424T021924CEST-5654Z6nRUV@horsealert.local
DTSTAMP:20260424T000424Z
CATEGORIES:Horse Alerts
DESCRIPTION:Youngs RPS Thank You For Your Support Handicap Hurdle
DTSTART:20141210T152000
LOCATION:England
SUMMARY:Horse Racing:Youngs RPS Thank You For Your Support Handicap Hurdle
END:VEVENT
END:VCALENDAR
