BEGIN:VCALENDAR
VERSION:2.0
PRODID:-//horsealert.local//NONSGML kigkonsult.se iCalcreator 2.10.5//
CALSCALE:GREGORIAN
X-WR-TIMEZONE:Europe/Dublin
BEGIN:VTIMEZONE
TZID:Etc/GMT-1
BEGIN:STANDARD
DTSTART:20010101T000000
TZOFFSETFROM:+0100
TZOFFSETTO:+0100
TZNAME:GMT +01:00
END:STANDARD
END:VTIMEZONE
BEGIN:VEVENT
UID:20260424T035505CEST-1053t1GSZa@horsealert.local
DTSTAMP:20260424T010405Z
CATEGORIES:Horse Alerts
DESCRIPTION:Coral Mobile \'Just Three Clicks To Bet\' Median Auction Maiden
  Stakes
DTSTART:20141210T130000
LOCATION:England
SUMMARY:Horse Racing:Coral Mobile \'Just Three Clicks To Bet\' Median Aucti
 on Maiden Stakes
END:VEVENT
END:VCALENDAR
