BEGIN:VCALENDAR
VERSION:2.0
PRODID:-//horsealert.local//NONSGML kigkonsult.se iCalcreator 2.10.5//
CALSCALE:GREGORIAN
X-WR-TIMEZONE:Europe/Dublin
BEGIN:VTIMEZONE
TZID:Etc/GMT-1
BEGIN:STANDARD
DTSTART:20010101T000000
TZOFFSETFROM:+0100
TZOFFSETTO:+0100
TZNAME:GMT +01:00
END:STANDARD
END:VTIMEZONE
BEGIN:VEVENT
UID:20260424T021937CEST-94143kx16E@horsealert.local
DTSTAMP:20260424T000437Z
CATEGORIES:Horse Alerts
DESCRIPTION:Puymorens Claiming Chase
DTSTART:20141208T130500
LOCATION:France
SUMMARY:Horse Racing:Puymorens Claiming Chase
END:VEVENT
END:VCALENDAR
