BEGIN:VCALENDAR
VERSION:2.0
PRODID:-//horsealert.local//NONSGML kigkonsult.se iCalcreator 2.10.5//
CALSCALE:GREGORIAN
X-WR-TIMEZONE:Europe/Dublin
BEGIN:VTIMEZONE
TZID:Etc/GMT-1
BEGIN:STANDARD
DTSTART:20010101T000000
TZOFFSETFROM:+0100
TZOFFSETTO:+0100
TZNAME:GMT +01:00
END:STANDARD
END:VTIMEZONE
BEGIN:VEVENT
UID:20260424T021956CEST-3094TG4r4x@horsealert.local
DTSTAMP:20260424T000456Z
CATEGORIES:Horse Alerts
DESCRIPTION:BetVictor.com Handicap
DTSTART:20141208T171000
LOCATION:England
SUMMARY:Horse Racing:BetVictor.com Handicap
END:VEVENT
END:VCALENDAR
