BEGIN:VCALENDAR
VERSION:2.0
PRODID:-//horsealert.local//NONSGML kigkonsult.se iCalcreator 2.10.5//
CALSCALE:GREGORIAN
X-WR-TIMEZONE:Europe/Dublin
BEGIN:VTIMEZONE
TZID:Etc/GMT-1
BEGIN:STANDARD
DTSTART:20010101T000000
TZOFFSETFROM:+0100
TZOFFSETTO:+0100
TZNAME:GMT +01:00
END:STANDARD
END:VTIMEZONE
BEGIN:VEVENT
UID:20260424T021932CEST-3459MKOUvR@horsealert.local
DTSTAMP:20260424T000432Z
CATEGORIES:Horse Alerts
DESCRIPTION:Betfred Henrietta Knight Mares\' Standard Open NH Flat Race \(L
 isted\)
DTSTART:20141207T150500
LOCATION:England
SUMMARY:Horse Racing:Betfred Henrietta Knight Mares\' Standard Open NH Flat
  Race \(Listed\)
END:VEVENT
END:VCALENDAR
