BEGIN:VCALENDAR
VERSION:2.0
PRODID:-//horsealert.local//NONSGML kigkonsult.se iCalcreator 2.10.5//
CALSCALE:GREGORIAN
X-WR-TIMEZONE:Europe/Dublin
BEGIN:VTIMEZONE
TZID:Etc/GMT-1
BEGIN:STANDARD
DTSTART:20010101T000000
TZOFFSETFROM:+0100
TZOFFSETTO:+0100
TZNAME:GMT +01:00
END:STANDARD
END:VTIMEZONE
BEGIN:VEVENT
UID:20260424T021941CEST-2074B6KaDG@horsealert.local
DTSTAMP:20260424T000441Z
CATEGORIES:Horse Alerts
DESCRIPTION:Betfred Grand Sefton Handicap Chase \(National Course\)
DTSTART:20141206T151500
LOCATION:England
SUMMARY:Horse Racing:Betfred Grand Sefton Handicap Chase \(National Course\
 )
END:VEVENT
END:VCALENDAR
