BEGIN:VCALENDAR
VERSION:2.0
PRODID:-//horsealert.local//NONSGML kigkonsult.se iCalcreator 2.10.5//
CALSCALE:GREGORIAN
X-WR-TIMEZONE:Europe/Dublin
BEGIN:VTIMEZONE
TZID:Etc/GMT-1
BEGIN:STANDARD
DTSTART:20010101T000000
TZOFFSETFROM:+0100
TZOFFSETTO:+0100
TZNAME:GMT +01:00
END:STANDARD
END:VTIMEZONE
BEGIN:VEVENT
UID:20260424T021852CEST-2177vU6XOS@horsealert.local
DTSTAMP:20260424T000452Z
CATEGORIES:Horse Alerts
DESCRIPTION:Kerry Group Hilly Way Chase \(Grade 2\)
DTSTART:20141207T141500
LOCATION:Eire
SUMMARY:Horse Racing:Kerry Group Hilly Way Chase \(Grade 2\)
END:VEVENT
END:VCALENDAR
