BEGIN:VCALENDAR
VERSION:2.0
PRODID:-//horsealert.local//NONSGML kigkonsult.se iCalcreator 2.10.5//
CALSCALE:GREGORIAN
X-WR-TIMEZONE:Europe/Dublin
BEGIN:VTIMEZONE
TZID:Etc/GMT-1
BEGIN:STANDARD
DTSTART:20010101T000000
TZOFFSETFROM:+0100
TZOFFSETTO:+0100
TZNAME:GMT +01:00
END:STANDARD
END:VTIMEZONE
BEGIN:VEVENT
UID:20260424T021951CEST-29986sVmcz@horsealert.local
DTSTAMP:20260424T000451Z
CATEGORIES:Horse Alerts
DESCRIPTION:Tim Hailstone Late Birthday Conditional Jockeys\' Novices\' Han
 dicap Hurdle
DTSTART:20141205T124000
LOCATION:England
SUMMARY:Horse Racing:Tim Hailstone Late Birthday Conditional Jockeys\' Novi
 ces\' Handicap Hurdle
END:VEVENT
END:VCALENDAR
