BEGIN:VCALENDAR
VERSION:2.0
PRODID:-//horsealert.local//NONSGML kigkonsult.se iCalcreator 2.10.5//
CALSCALE:GREGORIAN
X-WR-TIMEZONE:Europe/Dublin
BEGIN:VTIMEZONE
TZID:Etc/GMT-1
BEGIN:STANDARD
DTSTART:20010101T000000
TZOFFSETFROM:+0100
TZOFFSETTO:+0100
TZNAME:GMT +01:00
END:STANDARD
END:VTIMEZONE
BEGIN:VEVENT
UID:20260424T035309CEST-0805s6sa7s@horsealert.local
DTSTAMP:20260424T010409Z
CATEGORIES:Horse Alerts
DESCRIPTION:Next Meeting Thursday February 5th \(Q.R.\) \(C & G\) Maiden Hu
 rdle
DTSTART:20141204T152500
LOCATION:Eire
SUMMARY:Horse Racing:Next Meeting Thursday February 5th \(Q.R.\) \(C & G\) 
 Maiden Hurdle
END:VEVENT
END:VCALENDAR
