BEGIN:VCALENDAR
VERSION:2.0
PRODID:-//horsealert.local//NONSGML kigkonsult.se iCalcreator 2.10.5//
CALSCALE:GREGORIAN
X-WR-TIMEZONE:Europe/Dublin
BEGIN:VTIMEZONE
TZID:Etc/GMT-1
BEGIN:STANDARD
DTSTART:20010101T000000
TZOFFSETFROM:+0100
TZOFFSETTO:+0100
TZNAME:GMT +01:00
END:STANDARD
END:VTIMEZONE
BEGIN:VEVENT
UID:20260424T021850CEST-6080dAKTdJ@horsealert.local
DTSTAMP:20260424T000450Z
CATEGORIES:Horse Alerts
DESCRIPTION:Southwell Racecourse December Beer Festival Weekend Maiden Hurd
 le
DTSTART:20141202T142000
LOCATION:England
SUMMARY:Horse Racing:Southwell Racecourse December Beer Festival Weekend Ma
 iden Hurdle
END:VEVENT
END:VCALENDAR
