BEGIN:VCALENDAR
VERSION:2.0
PRODID:-//horsealert.local//NONSGML kigkonsult.se iCalcreator 2.10.5//
CALSCALE:GREGORIAN
X-WR-TIMEZONE:Europe/Dublin
BEGIN:VTIMEZONE
TZID:Etc/GMT-1
BEGIN:STANDARD
DTSTART:20010101T000000
TZOFFSETFROM:+0100
TZOFFSETTO:+0100
TZNAME:GMT +01:00
END:STANDARD
END:VTIMEZONE
BEGIN:VEVENT
UID:20260424T035313CEST-4423mUf7i1@horsealert.local
DTSTAMP:20260424T010413Z
CATEGORIES:Horse Alerts
DESCRIPTION:Don\'t Miss Out With gg.com Alerts Conditional Jockeys\' Handic
 ap Chase
DTSTART:20141129T145000
LOCATION:England
SUMMARY:Horse Racing:Don\'t Miss Out With gg.com Alerts Conditional Jockeys
 \' Handicap Chase
END:VEVENT
END:VCALENDAR
