BEGIN:VCALENDAR
VERSION:2.0
PRODID:-//horsealert.local//NONSGML kigkonsult.se iCalcreator 2.10.5//
CALSCALE:GREGORIAN
X-WR-TIMEZONE:Europe/Dublin
BEGIN:VTIMEZONE
TZID:Etc/GMT-1
BEGIN:STANDARD
DTSTART:20010101T000000
TZOFFSETFROM:+0100
TZOFFSETTO:+0100
TZNAME:GMT +01:00
END:STANDARD
END:VTIMEZONE
BEGIN:VEVENT
UID:20260424T035317CEST-8106W8W2W0@horsealert.local
DTSTAMP:20260424T010417Z
CATEGORIES:Horse Alerts
DESCRIPTION:Drain Repair And Maintenance Contractors Intermediate Open NH F
 lat Race
DTSTART:20141127T153500
LOCATION:England
SUMMARY:Horse Racing:Drain Repair And Maintenance Contractors Intermediate 
 Open NH Flat Race
END:VEVENT
END:VCALENDAR
