BEGIN:VCALENDAR
VERSION:2.0
PRODID:-//horsealert.local//NONSGML kigkonsult.se iCalcreator 2.10.5//
CALSCALE:GREGORIAN
X-WR-TIMEZONE:Europe/Dublin
BEGIN:VTIMEZONE
TZID:Etc/GMT-1
BEGIN:STANDARD
DTSTART:20010101T000000
TZOFFSETFROM:+0100
TZOFFSETTO:+0100
TZNAME:GMT +01:00
END:STANDARD
END:VTIMEZONE
BEGIN:VEVENT
UID:20260424T035441CEST-8895tf5ER1@horsealert.local
DTSTAMP:20260424T010441Z
CATEGORIES:Horse Alerts
DESCRIPTION:bet365.com Standard Open NH Flat Race
DTSTART:20141127T154500
LOCATION:England
SUMMARY:Horse Racing:bet365.com Standard Open NH Flat Race
END:VEVENT
END:VCALENDAR
