BEGIN:VCALENDAR
VERSION:2.0
PRODID:-//horsealert.local//NONSGML kigkonsult.se iCalcreator 2.10.5//
CALSCALE:GREGORIAN
X-WR-TIMEZONE:Europe/Dublin
BEGIN:VTIMEZONE
TZID:Etc/GMT-1
BEGIN:STANDARD
DTSTART:20010101T000000
TZOFFSETFROM:+0100
TZOFFSETTO:+0100
TZNAME:GMT +01:00
END:STANDARD
END:VTIMEZONE
BEGIN:VEVENT
UID:20260424T035315CEST-4461Prg4n3@horsealert.local
DTSTAMP:20260424T010415Z
CATEGORIES:Horse Alerts
DESCRIPTION:raceclear.co.uk Making Bookies Tremble Conditional Jockeys\' Tr
 aining Series Handicap Chase
DTSTART:20141126T152000
LOCATION:England
SUMMARY:Horse Racing:raceclear.co.uk Making Bookies Tremble Conditional Joc
 keys\' Training Series Handicap Chase
END:VEVENT
END:VCALENDAR
