BEGIN:VCALENDAR
VERSION:2.0
PRODID:-//horsealert.local//NONSGML kigkonsult.se iCalcreator 2.10.5//
CALSCALE:GREGORIAN
X-WR-TIMEZONE:Europe/Dublin
BEGIN:VTIMEZONE
TZID:Etc/GMT-1
BEGIN:STANDARD
DTSTART:20010101T000000
TZOFFSETFROM:+0100
TZOFFSETTO:+0100
TZNAME:GMT +01:00
END:STANDARD
END:VTIMEZONE
BEGIN:VEVENT
UID:20260424T070444CEST-8742iAguvU@horsealert.local
DTSTAMP:20260424T050444Z
CATEGORIES:Horse Alerts
DESCRIPTION:Bethany And Jack Gilbert All Weather \'Hands And Heels\' Appren
 tice Series Handicap
DTSTART:20141126T194500
LOCATION:England
SUMMARY:Horse Racing:Bethany And Jack Gilbert All Weather \'Hands And Heels
 \' Apprentice Series Handicap
END:VEVENT
END:VCALENDAR
