BEGIN:VCALENDAR
VERSION:2.0
PRODID:-//horsealert.local//NONSGML kigkonsult.se iCalcreator 2.10.5//
CALSCALE:GREGORIAN
X-WR-TIMEZONE:Europe/Dublin
BEGIN:VTIMEZONE
TZID:Etc/GMT-1
BEGIN:STANDARD
DTSTART:20010101T000000
TZOFFSETFROM:+0100
TZOFFSETTO:+0100
TZNAME:GMT +01:00
END:STANDARD
END:VTIMEZONE
BEGIN:VEVENT
UID:20260424T035413CEST-9948a81z3h@horsealert.local
DTSTAMP:20260424T010413Z
CATEGORIES:Horse Alerts
DESCRIPTION:Coolmore EBF Stallions \'National Hunt\' Novices\' Hurdle \(Qua
 lifier\)
DTSTART:20141124T123500
LOCATION:England
SUMMARY:Horse Racing:Coolmore EBF Stallions \'National Hunt\' Novices\' Hur
 dle \(Qualifier\)
END:VEVENT
END:VCALENDAR
