BEGIN:VCALENDAR
VERSION:2.0
PRODID:-//horsealert.local//NONSGML kigkonsult.se iCalcreator 2.10.5//
CALSCALE:GREGORIAN
X-WR-TIMEZONE:Europe/Dublin
BEGIN:VTIMEZONE
TZID:Etc/GMT-1
BEGIN:STANDARD
DTSTART:20010101T000000
TZOFFSETFROM:+0100
TZOFFSETTO:+0100
TZNAME:GMT +01:00
END:STANDARD
END:VTIMEZONE
BEGIN:VEVENT
UID:20260424T053317CEST-8458Wb1Apl@horsealert.local
DTSTAMP:20260424T030417Z
CATEGORIES:Horse Alerts
DESCRIPTION:Christmas Spa Experiences At Whittlebury Hall Maiden Open NH Fl
 at Race
DTSTART:20141122T152500
LOCATION:England
SUMMARY:Horse Racing:Christmas Spa Experiences At Whittlebury Hall Maiden O
 pen NH Flat Race
END:VEVENT
END:VCALENDAR
