BEGIN:VCALENDAR
VERSION:2.0
PRODID:-//horsealert.local//NONSGML kigkonsult.se iCalcreator 2.10.5//
CALSCALE:GREGORIAN
X-WR-TIMEZONE:Europe/Dublin
BEGIN:VTIMEZONE
TZID:Etc/GMT-1
BEGIN:STANDARD
DTSTART:20010101T000000
TZOFFSETFROM:+0100
TZOFFSETTO:+0100
TZNAME:GMT +01:00
END:STANDARD
END:VTIMEZONE
BEGIN:VEVENT
UID:20260424T035333CEST-9592GNnTHk@horsealert.local
DTSTAMP:20260424T010433Z
CATEGORIES:Horse Alerts
DESCRIPTION:BAM Construct UK Novices\' Limited Handicap Chase \(5K Field Si
 ze Bonus Race\)
DTSTART:20141122T130000
LOCATION:England
SUMMARY:Horse Racing:BAM Construct UK Novices\' Limited Handicap Chase \(5K
  Field Size Bonus Race\)
END:VEVENT
END:VCALENDAR
