BEGIN:VCALENDAR
VERSION:2.0
PRODID:-//horsealert.local//NONSGML kigkonsult.se iCalcreator 2.10.5//
CALSCALE:GREGORIAN
X-WR-TIMEZONE:Europe/Dublin
BEGIN:VTIMEZONE
TZID:Etc/GMT-1
BEGIN:STANDARD
DTSTART:20010101T000000
TZOFFSETFROM:+0100
TZOFFSETTO:+0100
TZNAME:GMT +01:00
END:STANDARD
END:VTIMEZONE
BEGIN:VEVENT
UID:20260424T035431CEST-00867Uor5L@horsealert.local
DTSTAMP:20260424T010430Z
CATEGORIES:Horse Alerts
DESCRIPTION:Santa Train Bookings At www.gowranpark.ie 3-Y-O Maiden Hurdle
DTSTART:20141122T123000
LOCATION:Eire
SUMMARY:Horse Racing:Santa Train Bookings At www.gowranpark.ie 3-Y-O Maiden
  Hurdle
END:VEVENT
END:VCALENDAR
