BEGIN:VCALENDAR
VERSION:2.0
PRODID:-//horsealert.local//NONSGML kigkonsult.se iCalcreator 2.10.5//
CALSCALE:GREGORIAN
X-WR-TIMEZONE:Europe/Dublin
BEGIN:VTIMEZONE
TZID:Etc/GMT-1
BEGIN:STANDARD
DTSTART:20010101T000000
TZOFFSETFROM:+0100
TZOFFSETTO:+0100
TZNAME:GMT +01:00
END:STANDARD
END:VTIMEZONE
BEGIN:VEVENT
UID:20260424T053345CEST-9432MpIse9@horsealert.local
DTSTAMP:20260424T030445Z
CATEGORIES:Horse Alerts
DESCRIPTION:Wingate Signs Supports & Superjosh Charity \'Fixed Brush\' \'Na
 tional Hunt\' Novices\' Hurdle
DTSTART:20141121T150500
LOCATION:England
SUMMARY:Horse Racing:Wingate Signs Supports & Superjosh Charity \'Fixed Bru
 sh\' \'National Hunt\' Novices\' Hurdle
END:VEVENT
END:VCALENDAR
