BEGIN:VCALENDAR
VERSION:2.0
PRODID:-//horsealert.local//NONSGML kigkonsult.se iCalcreator 2.10.5//
CALSCALE:GREGORIAN
X-WR-TIMEZONE:Europe/Dublin
BEGIN:VTIMEZONE
TZID:Etc/GMT-1
BEGIN:STANDARD
DTSTART:20010101T000000
TZOFFSETFROM:+0100
TZOFFSETTO:+0100
TZNAME:GMT +01:00
END:STANDARD
END:VTIMEZONE
BEGIN:VEVENT
UID:20260424T070436CEST-86627BVoAE@horsealert.local
DTSTAMP:20260424T050436Z
CATEGORIES:Horse Alerts
DESCRIPTION:Carole\'s 60th Birthday Celebration Handicap Chase \(Jockey Clu
 b Grassroots Jumps Series Qualifier\)
DTSTART:20141120T133000
LOCATION:England
SUMMARY:Horse Racing:Carole\'s 60th Birthday Celebration Handicap Chase \(J
 ockey Club Grassroots Jumps Series Qualifier\)
END:VEVENT
END:VCALENDAR
