BEGIN:VCALENDAR
VERSION:2.0
PRODID:-//horsealert.local//NONSGML kigkonsult.se iCalcreator 2.10.5//
CALSCALE:GREGORIAN
X-WR-TIMEZONE:Europe/Dublin
BEGIN:VTIMEZONE
TZID:Etc/GMT-1
BEGIN:STANDARD
DTSTART:20010101T000000
TZOFFSETFROM:+0100
TZOFFSETTO:+0100
TZNAME:GMT +01:00
END:STANDARD
END:VTIMEZONE
BEGIN:VEVENT
UID:20260424T035401CEST-9772uNZ0rK@horsealert.local
DTSTAMP:20260424T010401Z
CATEGORIES:Horse Alerts
DESCRIPTION:Boylesports Irish Grand National At Fairyhouse Handicap Hurdle 
 \(80-109\)
DTSTART:20141119T150500
LOCATION:Eire
SUMMARY:Horse Racing:Boylesports Irish Grand National At Fairyhouse Handica
 p Hurdle \(80-109\)
END:VEVENT
END:VCALENDAR
