BEGIN:VCALENDAR
VERSION:2.0
PRODID:-//horsealert.local//NONSGML kigkonsult.se iCalcreator 2.10.5//
CALSCALE:GREGORIAN
X-WR-TIMEZONE:Europe/Dublin
BEGIN:VTIMEZONE
TZID:Etc/GMT-1
BEGIN:STANDARD
DTSTART:20010101T000000
TZOFFSETFROM:+0100
TZOFFSETTO:+0100
TZNAME:GMT +01:00
END:STANDARD
END:VTIMEZONE
BEGIN:VEVENT
UID:20260424T035403CEST-1643v70kDO@horsealert.local
DTSTAMP:20260424T010403Z
CATEGORIES:Horse Alerts
DESCRIPTION:L\'aisne Claiming Hurdle
DTSTART:20141116T115000
LOCATION:France
SUMMARY:Horse Racing:L\'aisne Claiming Hurdle
END:VEVENT
END:VCALENDAR
