BEGIN:VCALENDAR
VERSION:2.0
PRODID:-//horsealert.local//NONSGML kigkonsult.se iCalcreator 2.10.5//
CALSCALE:GREGORIAN
X-WR-TIMEZONE:Europe/Dublin
BEGIN:VTIMEZONE
TZID:Etc/GMT-1
BEGIN:STANDARD
DTSTART:20010101T000000
TZOFFSETFROM:+0100
TZOFFSETTO:+0100
TZNAME:GMT +01:00
END:STANDARD
END:VTIMEZONE
BEGIN:VEVENT
UID:20260424T035342CEST-9508fIUonz@horsealert.local
DTSTAMP:20260424T010442Z
CATEGORIES:Horse Alerts
DESCRIPTION:Follow Punchestown On Facebook & Twitter Novice Handicap Hurdle
  \(80-109\)
DTSTART:20141115T141000
LOCATION:Eire
SUMMARY:Horse Racing:Follow Punchestown On Facebook & Twitter Novice Handic
 ap Hurdle \(80-109\)
END:VEVENT
END:VCALENDAR
