BEGIN:VCALENDAR
VERSION:2.0
PRODID:-//horsealert.local//NONSGML kigkonsult.se iCalcreator 2.10.5//
CALSCALE:GREGORIAN
X-WR-TIMEZONE:Europe/Dublin
BEGIN:VTIMEZONE
TZID:Etc/GMT-1
BEGIN:STANDARD
DTSTART:20010101T000000
TZOFFSETFROM:+0100
TZOFFSETTO:+0100
TZNAME:GMT +01:00
END:STANDARD
END:VTIMEZONE
BEGIN:VEVENT
UID:20260424T035358CEST-8856rVuKmu@horsealert.local
DTSTAMP:20260424T010458Z
CATEGORIES:Horse Alerts
DESCRIPTION:Festival 3 For 2 Ticket Offer Handicap Chase \(0-130\)
DTSTART:20141115T133500
LOCATION:Eire
SUMMARY:Horse Racing:Festival 3 For 2 Ticket Offer Handicap Chase \(0-130\)
END:VEVENT
END:VCALENDAR
