BEGIN:VCALENDAR
VERSION:2.0
PRODID:-//horsealert.local//NONSGML kigkonsult.se iCalcreator 2.10.5//
CALSCALE:GREGORIAN
X-WR-TIMEZONE:Europe/Dublin
BEGIN:VTIMEZONE
TZID:Etc/GMT-1
BEGIN:STANDARD
DTSTART:20010101T000000
TZOFFSETFROM:+0100
TZOFFSETTO:+0100
TZNAME:GMT +01:00
END:STANDARD
END:VTIMEZONE
BEGIN:VEVENT
UID:20260424T035410CEST-3970vnM6T3@horsealert.local
DTSTAMP:20260424T010410Z
CATEGORIES:Horse Alerts
DESCRIPTION:Download The BetVictor App Median Auction Maiden Stakes
DTSTART:20141113T162000
LOCATION:England
SUMMARY:Horse Racing:Download The BetVictor App Median Auction Maiden Stake
 s
END:VEVENT
END:VCALENDAR
