BEGIN:VCALENDAR
VERSION:2.0
PRODID:-//horsealert.local//NONSGML kigkonsult.se iCalcreator 2.10.5//
CALSCALE:GREGORIAN
X-WR-TIMEZONE:Europe/Dublin
BEGIN:VTIMEZONE
TZID:Etc/GMT-1
BEGIN:STANDARD
DTSTART:20010101T000000
TZOFFSETFROM:+0100
TZOFFSETTO:+0100
TZNAME:GMT +01:00
END:STANDARD
END:VTIMEZONE
BEGIN:VEVENT
UID:20260424T035406CEST-63312Mp2NV@horsealert.local
DTSTAMP:20260424T010406Z
CATEGORIES:Horse Alerts
DESCRIPTION:Landowners Sir John Hanmer Novices\' Limited Handicap Chase
DTSTART:20141112T133000
LOCATION:Wales
SUMMARY:Horse Racing:Landowners Sir John Hanmer Novices\' Limited Handicap 
 Chase
END:VEVENT
END:VCALENDAR
