BEGIN:VCALENDAR
VERSION:2.0
PRODID:-//horsealert.local//NONSGML kigkonsult.se iCalcreator 2.10.5//
CALSCALE:GREGORIAN
X-WR-TIMEZONE:Europe/Dublin
BEGIN:VTIMEZONE
TZID:Etc/GMT-1
BEGIN:STANDARD
DTSTART:20010101T000000
TZOFFSETFROM:+0100
TZOFFSETTO:+0100
TZNAME:GMT +01:00
END:STANDARD
END:VTIMEZONE
BEGIN:VEVENT
UID:20260424T035416CEST-4666hhH3nZ@horsealert.local
DTSTAMP:20260424T010416Z
CATEGORIES:Horse Alerts
DESCRIPTION:Mons \(BE\) - Brumair Handicap
DTSTART:20141110T175500
LOCATION:England
SUMMARY:Horse Racing:Mons \(BE\) - Brumair Handicap
END:VEVENT
END:VCALENDAR
