BEGIN:VCALENDAR
VERSION:2.0
PRODID:-//horsealert.local//NONSGML kigkonsult.se iCalcreator 2.10.5//
CALSCALE:GREGORIAN
X-WR-TIMEZONE:Europe/Dublin
BEGIN:VTIMEZONE
TZID:Etc/GMT-1
BEGIN:STANDARD
DTSTART:20010101T000000
TZOFFSETFROM:+0100
TZOFFSETTO:+0100
TZNAME:GMT +01:00
END:STANDARD
END:VTIMEZONE
BEGIN:VEVENT
UID:20260424T035420CEST-7575VC9en0@horsealert.local
DTSTAMP:20260424T010420Z
CATEGORIES:Horse Alerts
DESCRIPTION:Limerick Racecourse 19 Munster Madness Handicap Hurdle \(80-95\
 )
DTSTART:20141109T144500
LOCATION:Eire
SUMMARY:Horse Racing:Limerick Racecourse 19 Munster Madness Handicap Hurdle
  \(80-95\)
END:VEVENT
END:VCALENDAR
