BEGIN:VCALENDAR
VERSION:2.0
PRODID:-//horsealert.local//NONSGML kigkonsult.se iCalcreator 2.10.5//
CALSCALE:GREGORIAN
X-WR-TIMEZONE:Europe/Dublin
BEGIN:VTIMEZONE
TZID:Etc/GMT-1
BEGIN:STANDARD
DTSTART:20010101T000000
TZOFFSETFROM:+0100
TZOFFSETTO:+0100
TZNAME:GMT +01:00
END:STANDARD
END:VTIMEZONE
BEGIN:VEVENT
UID:20260424T035305CEST-52102CUSVR@horsealert.local
DTSTAMP:20260424T010405Z
CATEGORIES:Horse Alerts
DESCRIPTION:Betfred Bingo Apprentice Handicap \(Final Round Of The Go Racin
 g In Yorkshire Future Stars Apprentice Series\)
DTSTART:20141108T160500
LOCATION:England
SUMMARY:Horse Racing:Betfred Bingo Apprentice Handicap \(Final Round Of The
  Go Racing In Yorkshire Future Stars Apprentice Series\)
END:VEVENT
END:VCALENDAR
