BEGIN:VCALENDAR
VERSION:2.0
PRODID:-//horsealert.local//NONSGML kigkonsult.se iCalcreator 2.10.5//
CALSCALE:GREGORIAN
X-WR-TIMEZONE:Europe/Dublin
BEGIN:VTIMEZONE
TZID:Etc/GMT-1
BEGIN:STANDARD
DTSTART:20010101T000000
TZOFFSETFROM:+0100
TZOFFSETTO:+0100
TZNAME:GMT +01:00
END:STANDARD
END:VTIMEZONE
BEGIN:VEVENT
UID:20260424T070444CEST-3358Ipg0IN@horsealert.local
DTSTAMP:20260424T050444Z
CATEGORIES:Horse Alerts
DESCRIPTION:William Hill Rails Bookmaker At Musselburgh Standard Open NH Fl
 at Race
DTSTART:20141107T160000
LOCATION:Scotland
SUMMARY:Horse Racing:William Hill Rails Bookmaker At Musselburgh Standard O
 pen NH Flat Race
END:VEVENT
END:VCALENDAR
