BEGIN:VCALENDAR
VERSION:2.0
PRODID:-//horsealert.local//NONSGML kigkonsult.se iCalcreator 2.10.5//
CALSCALE:GREGORIAN
X-WR-TIMEZONE:Europe/Dublin
BEGIN:VTIMEZONE
TZID:Etc/GMT-1
BEGIN:STANDARD
DTSTART:20010101T000000
TZOFFSETFROM:+0100
TZOFFSETTO:+0100
TZNAME:GMT +01:00
END:STANDARD
END:VTIMEZONE
BEGIN:VEVENT
UID:20260424T035501CEST-2861xszW8N@horsealert.local
DTSTAMP:20260424T010401Z
CATEGORIES:Horse Alerts
DESCRIPTION:Whitson Bloodstock George Mernagh Memorial Mares\' Standard Ope
 n NH Flat Race
DTSTART:20141105T161000
LOCATION:England
SUMMARY:Horse Racing:Whitson Bloodstock George Mernagh Memorial Mares\' Sta
 ndard Open NH Flat Race
END:VEVENT
END:VCALENDAR
