BEGIN:VCALENDAR
VERSION:2.0
PRODID:-//horsealert.local//NONSGML kigkonsult.se iCalcreator 2.10.5//
CALSCALE:GREGORIAN
X-WR-TIMEZONE:Europe/Dublin
BEGIN:VTIMEZONE
TZID:Etc/GMT-1
BEGIN:STANDARD
DTSTART:20010101T000000
TZOFFSETFROM:+0100
TZOFFSETTO:+0100
TZNAME:GMT +01:00
END:STANDARD
END:VTIMEZONE
BEGIN:VEVENT
UID:20260424T035418CEST-2831aAZU7g@horsealert.local
DTSTAMP:20260424T010418Z
CATEGORIES:Horse Alerts
DESCRIPTION:Book The Restaurant For Christmas Festival Handicap
DTSTART:20141105T201000
LOCATION:England
SUMMARY:Horse Racing:Book The Restaurant For Christmas Festival Handicap
END:VEVENT
END:VCALENDAR
