BEGIN:VCALENDAR
VERSION:2.0
PRODID:-//horsealert.local//NONSGML kigkonsult.se iCalcreator 2.10.5//
CALSCALE:GREGORIAN
X-WR-TIMEZONE:Europe/Dublin
BEGIN:VTIMEZONE
TZID:Etc/GMT-1
BEGIN:STANDARD
DTSTART:20010101T000000
TZOFFSETFROM:+0100
TZOFFSETTO:+0100
TZNAME:GMT +01:00
END:STANDARD
END:VTIMEZONE
BEGIN:VEVENT
UID:20260424T035359CEST-1599epCrnF@horsealert.local
DTSTAMP:20260424T010459Z
CATEGORIES:Horse Alerts
DESCRIPTION:Betdaq 50% Commission Refund Floodlit Stakes \(Listed\)
DTSTART:20141105T191000
LOCATION:England
SUMMARY:Horse Racing:Betdaq 50% Commission Refund Floodlit Stakes \(Listed\
 )
END:VEVENT
END:VCALENDAR
