BEGIN:VCALENDAR
VERSION:2.0
PRODID:-//horsealert.local//NONSGML kigkonsult.se iCalcreator 2.10.5//
CALSCALE:GREGORIAN
X-WR-TIMEZONE:Europe/Dublin
BEGIN:VTIMEZONE
TZID:Etc/GMT-1
BEGIN:STANDARD
DTSTART:20010101T000000
TZOFFSETFROM:+0100
TZOFFSETTO:+0100
TZNAME:GMT +01:00
END:STANDARD
END:VTIMEZONE
BEGIN:VEVENT
UID:20260424T053344CEST-6694OLBU9D@horsealert.local
DTSTAMP:20260424T030444Z
CATEGORIES:Horse Alerts
DESCRIPTION:Betdaq 30 Free Bet 3% Commission Maiden Fillies\' Stakes \(Div 
 1\)
DTSTART:20141105T171000
LOCATION:England
SUMMARY:Horse Racing:Betdaq 30 Free Bet 3% Commission Maiden Fillies\' Stak
 es \(Div 1\)
END:VEVENT
END:VCALENDAR
