BEGIN:VCALENDAR
VERSION:2.0
PRODID:-//horsealert.local//NONSGML kigkonsult.se iCalcreator 2.10.5//
CALSCALE:GREGORIAN
X-WR-TIMEZONE:Europe/Dublin
BEGIN:VTIMEZONE
TZID:Etc/GMT-1
BEGIN:STANDARD
DTSTART:20010101T000000
TZOFFSETFROM:+0100
TZOFFSETTO:+0100
TZNAME:GMT +01:00
END:STANDARD
END:VTIMEZONE
BEGIN:VEVENT
UID:20260424T035403CEST-4360H5xl9d@horsealert.local
DTSTAMP:20260424T010403Z
CATEGORIES:Horse Alerts
DESCRIPTION:Sponsor A Race At Fairyhouse Call 018256167 Handicap Chase \(0-
 102\)
DTSTART:20141104T152500
LOCATION:Eire
SUMMARY:Horse Racing:Sponsor A Race At Fairyhouse Call 018256167 Handicap C
 hase \(0-102\)
END:VEVENT
END:VCALENDAR
