BEGIN:VCALENDAR
VERSION:2.0
PRODID:-//horsealert.local//NONSGML kigkonsult.se iCalcreator 2.10.5//
CALSCALE:GREGORIAN
X-WR-TIMEZONE:Europe/Dublin
BEGIN:VTIMEZONE
TZID:Etc/GMT-1
BEGIN:STANDARD
DTSTART:20010101T000000
TZOFFSETFROM:+0100
TZOFFSETTO:+0100
TZNAME:GMT +01:00
END:STANDARD
END:VTIMEZONE
BEGIN:VEVENT
UID:20260424T053310CEST-4756gil3j0@horsealert.local
DTSTAMP:20260424T030410Z
CATEGORIES:Horse Alerts
DESCRIPTION:Powers Irish Whiskey Chase \(Grade 2\)
DTSTART:20141101T150500
LOCATION:Northern Ireland
SUMMARY:Horse Racing:Powers Irish Whiskey Chase \(Grade 2\)
END:VEVENT
END:VCALENDAR
