BEGIN:VCALENDAR
VERSION:2.0
PRODID:-//horsealert.local//NONSGML kigkonsult.se iCalcreator 2.10.5//
CALSCALE:GREGORIAN
X-WR-TIMEZONE:Europe/Dublin
BEGIN:VTIMEZONE
TZID:Etc/GMT-1
BEGIN:STANDARD
DTSTART:20010101T000000
TZOFFSETFROM:+0100
TZOFFSETTO:+0100
TZNAME:GMT +01:00
END:STANDARD
END:VTIMEZONE
BEGIN:VEVENT
UID:20260424T064356CEST-41961wIiKM@horsealert.local
DTSTAMP:20260424T040456Z
CATEGORIES:Horse Alerts
DESCRIPTION:Subaru Restricted Pt2Pt Series 2014/2015 Handicap Chase \(For T
 he J. H. Rowe Memorial Cup\)
DTSTART:20141030T151000
LOCATION:England
SUMMARY:Horse Racing:Subaru Restricted Pt2Pt Series 2014/2015 Handicap Chas
 e \(For The J. H. Rowe Memorial Cup\)
END:VEVENT
END:VCALENDAR
