BEGIN:VCALENDAR
VERSION:2.0
PRODID:-//horsealert.local//NONSGML kigkonsult.se iCalcreator 2.10.5//
CALSCALE:GREGORIAN
X-WR-TIMEZONE:Europe/Dublin
BEGIN:VTIMEZONE
TZID:Etc/GMT-1
BEGIN:STANDARD
DTSTART:20010101T000000
TZOFFSETFROM:+0100
TZOFFSETTO:+0100
TZNAME:GMT +01:00
END:STANDARD
END:VTIMEZONE
BEGIN:VEVENT
UID:20260424T051816CEST-1377r3UILz@horsealert.local
DTSTAMP:20260424T030416Z
CATEGORIES:Horse Alerts
DESCRIPTION:Straightline Construction Maiden Open NH Flat Race
DTSTART:20141030T160000
LOCATION:England
SUMMARY:Horse Racing:Straightline Construction Maiden Open NH Flat Race
END:VEVENT
END:VCALENDAR
