BEGIN:VCALENDAR
VERSION:2.0
PRODID:-//horsealert.local//NONSGML kigkonsult.se iCalcreator 2.10.5//
CALSCALE:GREGORIAN
X-WR-TIMEZONE:Europe/Dublin
BEGIN:VTIMEZONE
TZID:Etc/GMT-1
BEGIN:STANDARD
DTSTART:20010101T000000
TZOFFSETFROM:+0100
TZOFFSETTO:+0100
TZNAME:GMT +01:00
END:STANDARD
END:VTIMEZONE
BEGIN:VEVENT
UID:20260424T035437CEST-46889vG7lC@horsealert.local
DTSTAMP:20260424T010437Z
CATEGORIES:Horse Alerts
DESCRIPTION:DraftKings Breeders\' Cup Filly And Mare Sprint \(Grade 1\) \(D
 irt\)
DTSTART:20141101T202100
LOCATION:USA
SUMMARY:Horse Racing:DraftKings Breeders\' Cup Filly And Mare Sprint \(Grad
 e 1\) \(Dirt\)
END:VEVENT
END:VCALENDAR
