BEGIN:VCALENDAR
VERSION:2.0
PRODID:-//horsealert.local//NONSGML kigkonsult.se iCalcreator 2.10.5//
CALSCALE:GREGORIAN
X-WR-TIMEZONE:Europe/Dublin
BEGIN:VTIMEZONE
TZID:Etc/GMT-1
BEGIN:STANDARD
DTSTART:20010101T000000
TZOFFSETFROM:+0100
TZOFFSETTO:+0100
TZNAME:GMT +01:00
END:STANDARD
END:VTIMEZONE
BEGIN:VEVENT
UID:20260424T051707CEST-29424sUsxj@horsealert.local
DTSTAMP:20260424T030407Z
CATEGORIES:Horse Alerts
DESCRIPTION:Allowance Optional Claiming \(Turf\)
DTSTART:20141031T182500
LOCATION:USA
SUMMARY:Horse Racing:Allowance Optional Claiming \(Turf\)
END:VEVENT
END:VCALENDAR
