BEGIN:VCALENDAR
VERSION:2.0
PRODID:-//horsealert.local//NONSGML kigkonsult.se iCalcreator 2.10.5//
CALSCALE:GREGORIAN
X-WR-TIMEZONE:Europe/Dublin
BEGIN:VTIMEZONE
TZID:Etc/GMT-1
BEGIN:STANDARD
DTSTART:20010101T000000
TZOFFSETFROM:+0100
TZOFFSETTO:+0100
TZNAME:GMT +01:00
END:STANDARD
END:VTIMEZONE
BEGIN:VEVENT
UID:20260424T051825CEST-05552lrfWc@horsealert.local
DTSTAMP:20260424T030425Z
CATEGORIES:Horse Alerts
DESCRIPTION:Challenge Classic Group 3 Arabian
DTSTART:20141029T184000
LOCATION:France
SUMMARY:Horse Racing:Challenge Classic Group 3 Arabian
END:VEVENT
END:VCALENDAR
