BEGIN:VCALENDAR
VERSION:2.0
PRODID:-//horsealert.local//NONSGML kigkonsult.se iCalcreator 2.10.5//
CALSCALE:GREGORIAN
X-WR-TIMEZONE:Europe/Dublin
BEGIN:VTIMEZONE
TZID:Etc/GMT-1
BEGIN:STANDARD
DTSTART:20010101T000000
TZOFFSETFROM:+0100
TZOFFSETTO:+0100
TZNAME:GMT +01:00
END:STANDARD
END:VTIMEZONE
BEGIN:VEVENT
UID:20260424T064233CEST-9499T10rj7@horsealert.local
DTSTAMP:20260424T040433Z
CATEGORIES:Horse Alerts
DESCRIPTION:Play Live Casino At BetVictor.com Standard Open NH Flat Race
DTSTART:20141027T162000
LOCATION:Scotland
SUMMARY:Horse Racing:Play Live Casino At BetVictor.com Standard Open NH Fla
 t Race
END:VEVENT
END:VCALENDAR
