BEGIN:VCALENDAR
VERSION:2.0
PRODID:-//horsealert.local//NONSGML kigkonsult.se iCalcreator 2.10.5//
CALSCALE:GREGORIAN
X-WR-TIMEZONE:Europe/Dublin
BEGIN:VTIMEZONE
TZID:Etc/GMT-1
BEGIN:STANDARD
DTSTART:20010101T000000
TZOFFSETFROM:+0100
TZOFFSETTO:+0100
TZNAME:GMT +01:00
END:STANDARD
END:VTIMEZONE
BEGIN:VEVENT
UID:20260424T051718CEST-9407V53pMB@horsealert.local
DTSTAMP:20260424T030418Z
CATEGORIES:Horse Alerts
DESCRIPTION:EBF/Download The BetVictor App \'National Hunt\' Novices\' Hurd
 le \(Qualifier\)
DTSTART:20141027T135000
LOCATION:Scotland
SUMMARY:Horse Racing:EBF/Download The BetVictor App \'National Hunt\' Novic
 es\' Hurdle \(Qualifier\)
END:VEVENT
END:VCALENDAR
