BEGIN:VCALENDAR
VERSION:2.0
PRODID:-//horsealert.local//NONSGML kigkonsult.se iCalcreator 2.10.5//
CALSCALE:GREGORIAN
X-WR-TIMEZONE:Europe/Dublin
BEGIN:VTIMEZONE
TZID:Etc/GMT-1
BEGIN:STANDARD
DTSTART:20010101T000000
TZOFFSETFROM:+0100
TZOFFSETTO:+0100
TZNAME:GMT +01:00
END:STANDARD
END:VTIMEZONE
BEGIN:VEVENT
UID:20260424T051719CEST-5827GXAIGU@horsealert.local
DTSTAMP:20260424T030419Z
CATEGORIES:Horse Alerts
DESCRIPTION:Maxilead Metals Handicap Chase \(For The John Parrett Memorial 
 Trophy\)
DTSTART:20141026T144000
LOCATION:England
SUMMARY:Horse Racing:Maxilead Metals Handicap Chase \(For The John Parrett 
 Memorial Trophy\)
END:VEVENT
END:VCALENDAR
