BEGIN:VCALENDAR
VERSION:2.0
PRODID:-//horsealert.local//NONSGML kigkonsult.se iCalcreator 2.10.5//
CALSCALE:GREGORIAN
X-WR-TIMEZONE:Europe/Dublin
BEGIN:VTIMEZONE
TZID:Etc/GMT-1
BEGIN:STANDARD
DTSTART:20010101T000000
TZOFFSETFROM:+0100
TZOFFSETTO:+0100
TZNAME:GMT +01:00
END:STANDARD
END:VTIMEZONE
BEGIN:VEVENT
UID:20260424T051652CEST-3281euuoCX@horsealert.local
DTSTAMP:20260424T030452Z
CATEGORIES:Horse Alerts
DESCRIPTION:totequadpot Four Places In Four Races Handicap Chase \(For The 
 John H. Kenny Memorial Cup\)
DTSTART:20141025T144500
LOCATION:England
SUMMARY:Horse Racing:totequadpot Four Places In Four Races Handicap Chase \
 (For The John H. Kenny Memorial Cup\)
END:VEVENT
END:VCALENDAR
